BEGIN:VCALENDAR
VERSION:2.0
PRODID:-//ChamberMaster//Event Calendar 2.0//EN
METHOD:PUBLISH
X-PUBLISHED-TTL:P3D
REFRESH-INTERVAL:P3D
CALSCALE:GREGORIAN
BEGIN:VEVENT
DTSTART:20191218T223000Z
DTEND:20191218T233000Z
X-MICROSOFT-CDO-ALLDAYEVENT:FALSE
SUMMARY:2019 FLEX Monthly Meeting
DESCRIPTION:The Future Leaders & Entrepreneurs Exchange (FLEX) young professionals will hold their monthly meeting to discuss upcoming events\, programs\, and ideas. Any local young professionals are invited to attend.
X-ALT-DESC;FMTTYPE=text/html:The Future Leaders &amp\; Entrepreneurs Exchange (FLEX) young professionals will hold their monthly meeting to discuss upcoming events\, programs\, and ideas. Any local young professionals are invited to attend.
LOCATION:Venango Chamber 24 Seneca St\, Oil City
UID:e.3327.1051
SEQUENCE:3
DTSTAMP:20260420T215406Z
URL:https://members.venangochamber.org/events/details/2019-flex-monthly-meeting-1051
END:VEVENT

END:VCALENDAR
