BEGIN:VCALENDAR
VERSION:2.0
PRODID:-//ChamberMaster//Event Calendar 2.0//EN
METHOD:PUBLISH
X-PUBLISHED-TTL:P3D
REFRESH-INTERVAL:P3D
CALSCALE:GREGORIAN
BEGIN:VEVENT
DTSTART:20200219T220000Z
DTEND:20200220T013000Z
X-MICROSOFT-CDO-ALLDAYEVENT:FALSE
SUMMARY:2020 Annual Dinner
DESCRIPTION:The Venango Area Chamber of Commerce will host our Annual Awards Banquet on Wednesday\, February 19\, at Cross Creek Resort in Titusville.  At this year's event\, we will recognize the Citizen of the Year\, Volunteer of the Year\, Business of the Year\, and Partner in Business of the Year.\n\n\n\n2019 Citizen of the Year - Jamie Hunt\n\n2019 Business of the Year - Webco Industries\n\n2019 Partner in Business of the Year - Oil City Main Street Program\n\n\n\n\n\nYou can also submit a registration form by mail or fax. Find the form here.\n\nMail to: Venango Chamber\, 24 Seneca Street\, Oil City\, Pa 16301\n\nFax to: (814) 676-8185
X-ALT-DESC;FMTTYPE=text/html:<span style="color: rgb(68\, 68\, 68)\; font-family: &quot\;Open Sans&quot\;\; font-size: 17px\; font-style: normal\; font-variant-ligatures: normal\; font-variant-caps: normal\; font-weight: 400\; letter-spacing: normal\; orphans: 2\; text-align: start\; text-indent: 0px\; text-transform: none\; white-space: normal\; widows: 2\; word-spacing: 0px\; -webkit-text-stroke-width: 0px\; background-color: rgb(255\, 255\, 255)\; text-decoration-style: initial\; text-decoration-color: initial\; display: inline !important\; float: none\;">The Venango Area Chamber of Commerce will host our Annual Awards Banquet on Wednesday\, February 19\, at Cross Creek Resort in Titusville.&nbsp\; At this year&rsquo\;s event\, we will recognize the Citizen of the Year\, Volunteer of the Year\, Business of the Year\, and Partner in Business of the Year.<br />\n<br />\n2019 Citizen of the Year - Jamie Hunt<br />\n2019 Business of the Year - Webco Industries<br />\n2019 Partner in Business of the Year - Oil City Main Street Program<br />\n<br />\n<br />\nYou can also submit a registration form by mail or fax. Find the form <a href="https://venangochamber.org/wp-content/uploads/2020/01/Annual-Dinner-Flyer-and-Sponsorship-2020.pdf">here</a>.<br />\nMail to: Venango Chamber\, 24 Seneca Street\, Oil City\, Pa 16301<br />\nFax to: (814) 676-8185</span>
LOCATION:Cross Creek Resort 3815 Route 8 Titusville\, PA 16354
UID:e.3327.2308
SEQUENCE:3
DTSTAMP:20260420T173453Z
URL:https://members.venangochamber.org/events/details/2020-annual-dinner-2308
END:VEVENT

END:VCALENDAR
