BEGIN:VCALENDAR
VERSION:2.0
PRODID:-//ChamberMaster//Event Calendar 2.0//EN
METHOD:PUBLISH
X-PUBLISHED-TTL:P3D
REFRESH-INTERVAL:P3D
CALSCALE:GREGORIAN
BEGIN:VEVENT
DTSTART:20200227T230000Z
DTEND:20200228T143000Z
X-MICROSOFT-CDO-ALLDAYEVENT:FALSE
SUMMARY:2020 Be Here Ambassador Training - Feb 27 & 28
DESCRIPTION:Help us spread the positive messaging of Be Here!\n\n\n\nWe invite community members to become Be Here Ambassadors and help us spread the message of the initiative that the Venango Area is a great place to live\, work\, and play. The ambassador program includes a 1-2 hour training where we equip people with information and resources to take throughout the community.\n\n\n\nThere are two separate trainings you can choose from:\n\nThursday\, February 27\, 6 p.m.\, Rocko's Pizzeria (122 E 1st St\, Oil City) or\n\nFriday\, February 28\, 8 a.m.\, FICDA (191 Howard St\, Franklin)\n \n\nREGISTER HERE
X-ALT-DESC;FMTTYPE=text/html:<strong>Help us spread the positive messaging of Be Here!</strong><br />\n<br />\nWe invite community members to become Be Here Ambassadors and help us spread the message of the initiative that the Venango Area is a great place to live\, work\, and play. The ambassador program includes a 1-2 hour training where we equip people with information and resources to take throughout the community.<br />\n<br />\n<strong>There are two separate trainings you can choose from:</strong><br />\nThursday\, February 27\, 6 p.m.\, Rocko&rsquo\;s Pizzeria (122 E 1st St\, Oil City) or<br />\nFriday\, February 28\, 8 a.m.\, FICDA (191 Howard St\, Franklin)\n<div style="text-align: center\;">&nbsp\;</div>\n\n<h3 style="text-align: center\;"><a href="https://beherevenango.org/ambassador/"><strong>REGISTER HERE</strong></a></h3>\n
LOCATION:Feb. 27: Rocko's Pizzeria (122 E 1st St\, Oil City) Feb 28: FICDA (191 Howard St\, Franklin)
UID:e.3327.2310
SEQUENCE:3
DTSTAMP:20260420T173800Z
URL:https://members.venangochamber.org/events/details/2020-be-here-ambassador-training-feb-27-28-2310
END:VEVENT

END:VCALENDAR
