BEGIN:VCALENDAR
VERSION:2.0
PRODID:-//ChamberMaster//Event Calendar 2.0//EN
METHOD:PUBLISH
X-PUBLISHED-TTL:P3D
REFRESH-INTERVAL:P3D
CALSCALE:GREGORIAN
BEGIN:VEVENT
DTSTART:20190510T120000Z
DTEND:20190510T130000Z
X-MICROSOFT-CDO-ALLDAYEVENT:FALSE
SUMMARY:2020 Be Here Ambassador Training - May 10
DESCRIPTION:We invite community members to help us spread the message of the Be Here initiative that the Venango Area is a great place to live\, work\, and play. We can't be everywhere\, talking to everyone\, so we need the community's help getting the word out.\n\n\n\nThe ambassador program includes a one hour training where we equip people with information and resources to take throughout the community. As an ambassador we ask you to:\n\n	Know the messaging\n	Be positive\n	Be welcoming\n	Display and hand out materials\n	Be connected\n	Communicate with us\n\nIf you are interested in becoming a Be Here ambassador\, please register for this training or our other training on May 9. These two trainings are identical\, so you can choose to come to one or the other. If you cannot make it to either\, contact Ashley at acowles@venangochamber.org to set up a time for an individual meeting. If there is enough interest\, we will schedule additional trainings in the future.\n\n\n\nLearn more about Be Here at beherevenango.org\n\n \n\nREGISTER HERE
X-ALT-DESC;FMTTYPE=text/html:We invite community members to help us spread the message of the Be Here initiative that the Venango Area is a great place to live\, work\, and play. We can&rsquo\;t be everywhere\, talking to everyone\, so we need the community&rsquo\;s help getting the word out.<br />\n<br />\nThe ambassador program includes a one hour training where we equip people with information and resources to take throughout the community. As an ambassador we ask you to:\n<ul>\n	<li>Know the messaging</li>\n	<li>Be positive</li>\n	<li>Be welcoming</li>\n	<li>Display and hand out materials</li>\n	<li>Be connected</li>\n	<li>Communicate with us</li>\n</ul>\nIf you are interested in becoming a Be Here ambassador\, please register for this training or our <a href="https://members.venangochamber.org/events/details/be-here-ambassador-training-1-1268">other training on May 9</a>.&nbsp\;These two trainings are identical\, so you can choose to come to one or the other. If you cannot make it to either\, contact Ashley at acowles@venangochamber.org to set up a time for an individual meeting. If there is enough interest\, we will schedule additional trainings in the future.<br />\n<br />\nLearn more about Be Here at <a href="https://beherevenango.org/" target="_blank">beherevenango.org</a>\n\n<div style="text-align: center\;">&nbsp\;</div>\n\n<h3 style="text-align: center\;"><strong><a href="https://forms.gle/AzyRSowHth3tnW4W7" target="_blank">REGISTER HERE</a></strong></h3>\n
LOCATION:Seneca/Cranberry (exact location TBD)
UID:e.3327.1269
SEQUENCE:3
DTSTAMP:20260421T024258Z
URL:https://members.venangochamber.org/events/details/2020-be-here-ambassador-training-may-10-1269
END:VEVENT

END:VCALENDAR
