BEGIN:VCALENDAR
VERSION:2.0
PRODID:-//ChamberMaster//Event Calendar 2.0//EN
METHOD:PUBLISH
X-PUBLISHED-TTL:P3D
REFRESH-INTERVAL:P3D
CALSCALE:GREGORIAN
BEGIN:VEVENT
DTSTART:20200125T220000Z
DTEND:20200126T030000Z
X-MICROSOFT-CDO-ALLDAYEVENT:FALSE
SUMMARY:2020 FLEX Dinner & Show Social
DESCRIPTION:Join the FLEX young professionals for a fancy night in Franklin! We'll meet at Bella Cucina at 5 p.m. for networking\, cocktails\, and dinner\, then head to the Barrow-Civic Theatre for a showing of Liberty Cabaret: One-Hit Wonders.\n\n\n\nDinner at Bella's will be dutch treat. The first 20 to RSVP will get a free ticket to the show.\n\n\n\nThe room at dinner only fits 20\, but\, even if you don't RSVP in time\, you are welcome to purchase your own ticket from the Barrow and meet us at the show after dinner.\n\n\n\nSome FLEX members will be dressing up (cocktail attire)\, but you are welcome to dress how you are most comfortable.
X-ALT-DESC;FMTTYPE=text/html:Join the FLEX young professionals for a fancy night in Franklin! We&#39\;ll meet at Bella Cucina at 5 p.m. for networking\, cocktails\, and dinner\, then head to the Barrow-Civic Theatre for a showing of <a href="https://www.barrowtheatre.com/event/libertycabaret/2020-01-17/" target="_blank">Liberty Cabaret: One-Hit Wonders</a>.<br />\n<br />\nDinner at Bella&#39\;s will be dutch treat. The first 20 to RSVP will get a free ticket to the show.<br />\n<br />\nThe room at dinner only fits 20\, but\, even if you don&#39\;t RSVP in time\, you are welcome to purchase your own ticket from the Barrow and meet us at the show after dinner.<br />\n<br />\nSome FLEX members will be dressing up (cocktail attire)\, but you are welcome to dress how you are most comfortable.
LOCATION:Dinner at Bella Cucina (1234 Liberty St) Show at Barrow-Civic Theatre (1223 Liberty St)
UID:e.3327.2307
SEQUENCE:3
DTSTAMP:20260420T191232Z
URL:https://members.venangochamber.org/events/details/2020-flex-dinner-show-social-2307
END:VEVENT

END:VCALENDAR
