BEGIN:VCALENDAR
VERSION:2.0
PRODID:-//ChamberMaster//Event Calendar 2.0//EN
METHOD:PUBLISH
X-PUBLISHED-TTL:P3D
REFRESH-INTERVAL:P3D
CALSCALE:GREGORIAN
BEGIN:VEVENT
DTSTART:20200616T213000Z
DTEND:20200616T230000Z
X-MICROSOFT-CDO-ALLDAYEVENT:FALSE
SUMMARY:2020 FLEX Speaker Series: Personal Finances
DESCRIPTION:Join the FLEX young professionals for a Virtual Speaker Series on Personal Finances. Guest speakers will be Frank Hadjuk\, previous business owner and mentor at SCORE\, and Zachary Embry of Farmers National Bank of Emlenton.\n\n\n\nThis event is hosted by and for young professionals in Venango County\, although any aged professionals may attend.
X-ALT-DESC;FMTTYPE=text/html:Join the FLEX young professionals for a Virtual Speaker Series on Personal Finances. Guest speakers will be Frank Hadjuk\, previous business owner and mentor at SCORE\, and Zachary Embry of Farmers National Bank of Emlenton.<br />\n<br />\n<em>This event is hosted by and for young professionals in Venango County\, although any aged professionals may attend.</em>
LOCATION:Online - Upon registration\, you will receive an email with the link to the Zoom meeting
UID:e.3327.2319
SEQUENCE:3
DTSTAMP:20260420T144022Z
URL:https://members.venangochamber.org/events/details/2020-flex-speaker-series-personal-finances-2319
END:VEVENT

END:VCALENDAR
