BEGIN:VCALENDAR
VERSION:2.0
PRODID:-//ChamberMaster//Event Calendar 2.0//EN
METHOD:PUBLISH
X-PUBLISHED-TTL:P3D
REFRESH-INTERVAL:P3D
CALSCALE:GREGORIAN
BEGIN:VEVENT
DTSTART:20200520T213000Z
DTEND:20200520T230000Z
X-MICROSOFT-CDO-ALLDAYEVENT:FALSE
SUMMARY:2020 FLEX Virtual Hangout
DESCRIPTION:Join us at another FLEX Virtual Hangout! Just because we can't see each other in person\, doesn't mean we can't get together. At this hangout\, we'll chat about things like:\n\n\n\n  Favorite communication app/program for staying connected\n\n  Best meal you've had during quarantine (homemade or otherwise) \n\n  Fun fact you've learned recently\n\n\n\nWe are using Zoom for the hangout. If you don't have it on your computer or phone\, download it here: https://zoom.us/download\n\n\n\n*We invite any Venango County young professionals to join :) \n\n\n\n\n\nZOOM TIPS:\n\n  Download the app on your phone or computer before the call begins: https://zoom.us/download\n\n  Have a microphone ready if you do not have one built into your computer (headphones with a mic work great)\n\n  During the call\, click the "mute" button if you are not talking\n\n  Click the button to raise your hand if you have something to add\, to avoid talking over one another\n\n  Use the chat feature to ask a question or add a comment if you don't want to say it out loud (such as when someone else is talking)
X-ALT-DESC;FMTTYPE=text/html:Join us at another FLEX Virtual Hangout! Just because we can&#39\;t see each other in person\, doesn&#39\;t mean we can&#39\;t get together. At this hangout\, we&#39\;ll chat about things like:<br />\n<br />\n&bull\; Favorite communication app/program for staying connected<br />\n&bull\; Best meal you&#39\;ve had during quarantine (homemade or otherwise)&nbsp\;<br />\n&bull\; Fun fact you&#39\;ve learned recently<br />\n<br />\nWe are using Zoom for the hangout. If you don&#39\;t have it on your computer or phone\, download it here: https://zoom.us/download<br />\n<br />\n<em>*We invite any Venango County young professionals to join :)&nbsp\;</em><br />\n<br />\n<br />\n<strong>ZOOM TIPS:</strong><br />\n&bull\; Download the app on your phone or computer before the call begins: https://zoom.us/download<br />\n&bull\; Have a microphone ready if you do not have one built into your computer (headphones with a mic work great)<br />\n&bull\; During the call\, click the &quot\;mute&quot\; button if you are not talking<br />\n&bull\; Click the button to raise your hand if you have something to add\, to avoid talking over one another<br />\n&bull\; Use the chat feature to ask a question or add a comment if you don&#39\;t want to say it out loud (such as when someone else is talking)
LOCATION:To join\, click "Click here to join!" below.
UID:e.3327.2322
SEQUENCE:3
DTSTAMP:20260420T131559Z
URL:https://members.venangochamber.org/events/details/2020-flex-virtual-hangout-2322
END:VEVENT

END:VCALENDAR
