BEGIN:VCALENDAR
VERSION:2.0
PRODID:-//ChamberMaster//Event Calendar 2.0//EN
METHOD:PUBLISH
X-PUBLISHED-TTL:P3D
REFRESH-INTERVAL:P3D
CALSCALE:GREGORIAN
BEGIN:VEVENT
DTSTART:20200305T223000Z
DTEND:20200305T233000Z
X-MICROSOFT-CDO-ALLDAYEVENT:FALSE
SUMMARY:2020 FLEX Yoga Social
DESCRIPTION:Are you feeling FLEXible? :) Reduce your stress\, relax your body & have fun with other young professionals at our first ever Yoga Social! This is a class for all levels (including those who have never done yoga before) at Trailasana Yoga Studio\, recently opened by FLEX Member Bobbie Jones.\n\n\n\nWear comfy clothes and bring your mat if you have one (there are mats available if you don't). The cost is $10 a person. Please bring cash or check (made out to Bobbie Jones) to pay when you arrive. The social will include also include some snacks from Core Goods\, owned by FLEX member Ashley Sheffer.\n\n\n\nOnly 20 spots are available and you MUST RSVP! Register online or contact the Venango Chamber at tbyham@venangochamber.org or (814) 676-8521.
X-ALT-DESC;FMTTYPE=text/html:Are you feeling FLEXible? :) Reduce your stress\, relax your body &amp\; have fun with other young professionals at our first ever Yoga Social! This is a class for all levels (including those who have never done yoga before) at Trailasana Yoga Studio\, recently opened by FLEX Member Bobbie Jones.<br />\n<br />\nWear comfy clothes and bring your mat if you have one (there are mats available if you don&#39\;t). The cost is $10 a person. Please bring cash or check (made out to Bobbie Jones) to pay when you arrive. The social will include also include some snacks from Core Goods\, owned by FLEX member Ashley Sheffer.<br />\n<br />\nOnly 20 spots are available and you MUST RSVP! Register online or contact the Venango Chamber at tbyham@venangochamber.org or (814) 676-8521.
LOCATION:
UID:e.3327.2321
SEQUENCE:3
DTSTAMP:20260420T173754Z
URL:https://members.venangochamber.org/events/details/2020-flex-yoga-social-2321
END:VEVENT

END:VCALENDAR
