BEGIN:VCALENDAR
VERSION:2.0
PRODID:-//ChamberMaster//Event Calendar 2.0//EN
METHOD:PUBLISH
X-PUBLISHED-TTL:P3D
REFRESH-INTERVAL:P3D
CALSCALE:GREGORIAN
BEGIN:VEVENT
DTSTART;VALUE=DATE:20200625
DTEND;VALUE=DATE:20200626
TRANSP:TRANSPARENT
X-MICROSOFT-CDO-ALLDAYEVENT:TRUE
SUMMARY:2020 Golf Scramble
DESCRIPTION:Join us for the Venango Chamber's annual golf scramble at Wanango Country Club! Wanango's first public golf outing of the season. \n\n\n\nWe will be complying with all CDC guidelines in order to keep our golfers\, staff\, and volunteers safe. Please help us do so by practicing social distancing! We will hold registration\, trade show and the steak dinner outdoors. \n\n\n\nWe hope to have a full lineup of men's\, women's\, and mixed teams for this year's Chamber Golf Scramble. \n\n\n\nThere will be skill prizes and team prizes awarded as well as door prize and hole-in-one prize opportunities. \n\n \n\nNew this year - TRADE SHOW:\n\n	Businesses will have the opportunity to set up a display at provided tables\, at this year's pre-golf scramble trade show.  \n	Set up will begin at 8:00\, with the Trade Show held from 8:30 - 10:00. \n	Coffee and donuts and a "Bloody Mary and Mimosa Bar" will also be available from 8:30 - 9:30\, all in the outdoor tented area. \n	Become a Champion Sponsor for a booth at the trade show\, team of four\, complimentary hole sponsor and recognition on score card and in Chamber newsletter. \n	\n		Champion Sponsor - $500          Booth only - $450\n	\n	\n\nView the registration flyer here: https://venangochamber.org/wp-content/uploads/2020/06/Golf-Outing-Flyer-2020.pdf
X-ALT-DESC;FMTTYPE=text/html:Join us for the Venango Chamber&#39\;s annual golf scramble at Wanango Country Club! Wanango&#39\;s first public golf outing of the season.&nbsp\;<br />\n<br />\n<span style="font-style:italic\;language:en-US\;"><span style="font-family:open sans\;"><span style="font-size:11.0pt\;">We will be complying with all CDC guidelines in order to keep our golfers\, staff\, and volunteers safe. Please help us do so by practicing social distancing! We will hold registration\, trade show and the steak dinner outdoors. </span></span></span><br />\n<br />\n<span style="font-weight:bold\;language:en-US\;"><span style="font-family:open sans\;"><span style="font-size:11.0pt\;">We hope to have a full lineup of men&rsquo\;s\, women&rsquo\;s</span></span></span><span style="font-weight:bold\;language:en-US\;"><span style="font-family:open sans\;"><span style="font-size:11.0pt\;">\,</span></span></span> <span style="font-weight:bold\;language:en-US\;"><span style="font-family:open sans\;"><span style="font-size:11.0pt\;">and </span></span></span><span style="font-weight:bold\;language:en-US\;"><span style="font-family:open sans\;"><span style="font-size:11.0pt\;">mixed</span></span></span> <span style="font-weight:bold\;language:en-US\;"><span style="font-family:open sans\;"><span style="font-size:11.0pt\;">teams </span></span></span><span style="font-weight:bold\;language:en-US\;"><span style="font-family:open sans\;"><span style="font-size:11.0pt\;">for this year&rsquo\;s Chamber Golf Scramble. </span></span></span><br />\n<br />\n<span style="language:en-US\;"><span style="font-family:open sans\;"><span style="font-size:11.0pt\;">There will be skill prizes and team prizes awarded as well as door prize and hole-in-one prize opportunities. </span></span></span><br />\n&nbsp\;<br />\n<span style="font-weight:bold\;language:en-US\;"><span style="font-family:open sans\;"><span style="font-size:11.0pt\;">New this year - TRADE SHOW:</span></span></span>\n<ul>\n	<li><span style="language:en-US\;"><span style="font-family:open sans\;"><span style="font-size:11.0pt\;">Businesses will have the opportunity to set up a display at provided tables\, at this year&rsquo\;s pre-golf scramble trade show. &nbsp\;</span></span></span></li>\n	<li><span style="language:en-US\;"><span style="font-family:open sans\;"><span style="font-size:11.0pt\;"><span style="language:en-US\;"><span style="font-family:open sans\;"><span style="font-size:11.0pt\;">Set up will begin at 8:00\, with the Trade Show held from 8:30 - 10:00. </span></span></span></span></span></span></li>\n	<li><span style="language:en-US\;"><span style="font-family:open sans\;"><span style="font-size:11.0pt\;"><span style="language:en-US\;"><span style="font-family:open sans\;"><span style="font-size:11.0pt\;"><span style="language:en-US\;"><span style="font-family:open sans\;"><span style="font-size:11.0pt\;">Coffee and donuts and a &ldquo\;Bloody Mary and Mimosa Bar&rdquo\; will also be available from 8:30 - 9:30\, all in the outdoor tented area. </span></span></span></span></span></span></span></span></span></li>\n	<li><span style="language:en-US\;"><span style="font-family:open sans\;"><span style="font-size:11.0pt\;"><span style="language:en-US\;"><span style="font-family:open sans\;"><span style="font-size:11.0pt\;"><span style="language:en-US\;"><span style="font-family:open sans\;"><span style="font-size:11.0pt\;"><span style="language:en-US\;"><span style="font-family:open sans\;"><span style="font-size:11.0pt\;">Become a </span></span></span><span style="font-weight:bold\;language:en-US\;"><span style="font-family:open sans\;"><span style="font-size:11.0pt\;">Champion Sponsor </span></span></span><span style="language:en-US\;"><span style="font-family:open sans\;"><span style="font-size:11.0pt\;">for a booth at the trade show\, team of four\, complimentary hole sponsor and recognition on score card and in Chamber newsletter. </span></span></span></span></span></span></span></span></span></span></span></span>\n	<ul>\n		<li><span style="font-weight:bold\;language:en-US\;"><span style="font-family:open sans\;"><span style="font-size:11.0pt\;">Champion Sponsor - $500</span></span></span>&nbsp\;&nbsp\;&nbsp\;&nbsp\;<span style="font-weight:bold\;language:en-US\;"><span style="font-family:open sans\;"><span style="font-size:11.0pt\;">&#8203\;&bull\;</span></span></span>&nbsp\;&nbsp\;&nbsp\;&nbsp\;<span style="font-weight:bold\;language:en-US\;"><span style="font-family:open sans\;"><span style="font-size:11.0pt\;"><span style="font-weight:bold\;language:en-US\;"><span style="font-family:open sans\;"><span style="font-size:11.0pt\;">Booth only - $450</span></span></span></span></span></span></li>\n	</ul>\n	</li>\n</ul>\n<span style="font-weight:bold\;language:en-US\;"><span style="font-family:open sans\;"><span style="font-size:11.0pt\;"><span style="font-weight:bold\;language:en-US\;"><span style="font-family:open sans\;"><span style="font-size:11.0pt\;">View the registration flyer here:&nbsp\;</span></span></span></span></span></span><a href="https://venangochamber.org/wp-content/uploads/2020/06/Golf-Outing-Flyer-2020.pdf">https://venangochamber.org/wp-content/uploads/2020/06/Golf-Outing-Flyer-2020.pdf</a>
LOCATION:Wanango Country Club 314 Chestnut Street Reno\, PA
UID:e.3327.2338
SEQUENCE:3
DTSTAMP:20260420T143803Z
URL:https://members.venangochamber.org/events/details/2020-golf-scramble-2338
END:VEVENT

END:VCALENDAR
