BEGIN:VCALENDAR
VERSION:2.0
PRODID:-//ChamberMaster//Event Calendar 2.0//EN
METHOD:PUBLISH
X-PUBLISHED-TTL:P3D
REFRESH-INTERVAL:P3D
CALSCALE:GREGORIAN
BEGIN:VEVENT
DTSTART:20200609T160000Z
DTEND:20200609T170000Z
X-MICROSOFT-CDO-ALLDAYEVENT:FALSE
SUMMARY:2020 June - Venango Tech Talk
DESCRIPTION:Advanced strategies for marketing your business. Each month we will discuss a different topic\, including:\n\n\n\n2020:\n\n\n\nJune: Storing and Sharing Data and Files\n\nMay: Marketing Your Business Online\n\nApril: Connecting Virtually \n\nFebruary: Social Media Strategy\n\nJanuary: Interaction & Engagement\n\n\n\n2019:\n\n\n\nDecember: Instagram & Facebook Stories\n\nNovember: Marketing for the Holidays\n\nSeptember: Content Creation\n\nAugust: Online Crisis Management\n\nJuly: Photography\n\nJune: Branding\n\nMay: Analytics & Measurement\n\nApril: Videography\n\nMarch: Telling Your Story\n\nFebruary: Social Media Ideas
X-ALT-DESC;FMTTYPE=text/html:<p>Advanced strategies for marketing your business. Each month we will discuss a different topic\, including:<br />\n<br />\n<strong>2020:<br />\n<br />\nJune:&nbsp\;</strong>Storing and Sharing Data and Files<br />\n<strong>May: </strong>Marketing Your Business Online<br />\n<strong>April: </strong>Connecting Virtually&nbsp\;<br />\n<strong>February: </strong>Social Media Strategy<br />\n<strong>January: </strong>Interaction &amp\; Engagement<br />\n<br />\n<strong>2019</strong>:<br />\n<br />\n<strong>December: </strong>Instagram &amp\; Facebook Stories<br />\n<strong>November: </strong>Marketing for the Holidays<br />\n<strong>September: </strong>Content Creation<br />\n<strong>August: </strong>Online Crisis Management<br />\n<strong>July:</strong>&nbsp\;Photography<br />\n<strong>June:</strong>&nbsp\;Branding<br />\n<strong>May:&nbsp\;</strong>Analytics &amp\; Measurement<br />\n<strong>April:</strong>&nbsp\;Videography<br />\n<strong>March:</strong>&nbsp\;Telling Your Story<br />\n<strong>February:</strong>&nbsp\;Social Media Ideas</p>\n
LOCATION:Online through Zoom
UID:e.3327.905
SEQUENCE:3
DTSTAMP:20260420T143804Z
URL:https://members.venangochamber.org/events/details/2020-june-venango-tech-talk-905
END:VEVENT

END:VCALENDAR
