BEGIN:VCALENDAR
VERSION:2.0
PRODID:-//ChamberMaster//Event Calendar 2.0//EN
METHOD:PUBLISH
X-PUBLISHED-TTL:P3D
REFRESH-INTERVAL:P3D
CALSCALE:GREGORIAN
BEGIN:VEVENT
DTSTART:20200610T170000Z
DTEND:20200610T180000Z
X-MICROSOFT-CDO-ALLDAYEVENT:FALSE
SUMMARY:2020 Leadership Venango Class of 2020 Graduation
DESCRIPTION:Join us in celebrating the Leadership Venango Class of 2020 at a virtual graduation ceremony! \n\n\n\nThis year's class has been extremely flexible during the changes brought on by COVID-19 and we are so happy to present them as our newest graduates of the Leadership Venango program.
X-ALT-DESC;FMTTYPE=text/html:Join us in celebrating the Leadership Venango Class of 2020 at a virtual graduation ceremony!&nbsp\;<br />\n<br />\nThis year&#39\;s class has been extremely flexible during the changes brought on by COVID-19 and we are so happy to present them as our newest graduates of the Leadership Venango program.&nbsp\;
LOCATION:
UID:e.3327.2339
SEQUENCE:3
DTSTAMP:20260420T144925Z
URL:https://members.venangochamber.org/events/details/2020-leadership-venango-class-of-2020-graduation-2339
END:VEVENT

END:VCALENDAR
