BEGIN:VCALENDAR
VERSION:2.0
PRODID:-//ChamberMaster//Event Calendar 2.0//EN
METHOD:PUBLISH
X-PUBLISHED-TTL:P3D
REFRESH-INTERVAL:P3D
CALSCALE:GREGORIAN
BEGIN:VEVENT
DTSTART:20200310T213000Z
DTEND:20200310T233000Z
X-MICROSOFT-CDO-ALLDAYEVENT:FALSE
SUMMARY:2020 March - Be Here Quarterly
DESCRIPTION:A series of community conversations around challenges we face in the Venango Area and how we can work together to tackle them. The topic for this session is "Changing the Narrative" and we'll discuss how we can better talk about our area and to each other\, to create a more positive atmosphere here.\n\n\n\nLight refreshments will be provided.
X-ALT-DESC;FMTTYPE=text/html:A series of community conversations around challenges we face in the Venango Area and how we can work together to tackle them. The topic for this session is &quot\;Changing the Narrative&quot\; and we&#39\;ll discuss how we can better talk about our area and to each other\, to create a more positive atmosphere here.<br />\n<br />\nLight refreshments will be provided.
LOCATION:Klapec Auto Body - Conference Room (180 Regina Dr\, Cranberry)
UID:e.3327.2318
SEQUENCE:3
DTSTAMP:20260420T161851Z
URL:https://members.venangochamber.org/events/details/2020-march-be-here-quarterly-2318
END:VEVENT

END:VCALENDAR
