BEGIN:VCALENDAR
VERSION:2.0
PRODID:-//ChamberMaster//Event Calendar 2.0//EN
METHOD:PUBLISH
X-PUBLISHED-TTL:P3D
REFRESH-INTERVAL:P3D
CALSCALE:GREGORIAN
BEGIN:VEVENT
DTSTART:20200623T130000Z
DTEND:20200623T133000Z
X-MICROSOFT-CDO-ALLDAYEVENT:FALSE
SUMMARY:2020 Shift. Sustain. Succeed. June 23rd (PA 30 Day Fund - Pennsylvanians Helping Pennsylvanians)
DESCRIPTION:Shift. Sustain. Succeed. is a business development series brought to you by the Venango Area Chamber of Commerce. Each week we will answer your outstanding questions\, to help:\n\n\n	SHIFT your business to navigate the circumstances\n	Identify what is most important to SUSTAIN your mission\n	Plan for SUCCESS in the future\n\nWe're inviting local experts to address frequently asked questions and will allow time for additional questions. Each session is 30 minutes and interactive\, through Zoom\n\n \nThis session will feature Jeff Bartos and Maia Comeau from the PA 30 Day Fund.\n\n\n\nQuestions to be addressed:\n\n \n\n  How much money have you raised to date? Can you tell us about your donors?\n\n  What is the impact you see the fund having on our communities\; and one the state as a whole?\n\n  Who is the ideal applicant? Is there anyone who shouldn't apply?
X-ALT-DESC;FMTTYPE=text/html:<div style="color: rgb(34\, 34\, 34)\; font-family: &quot\;Open Sans&quot\;\, &quot\;Helvetica Neue&quot\;\, Helvetica\, Arial\, sans-serif\; font-size: 14px\; text-align: justify\;"><strong>Shift. Sustain. Succeed.</strong>&nbsp\;is a business development series brought to you by the Venango Area Chamber of Commerce. Each week we will answer your outstanding questions\, to help:</div>\n\n<ul style="color: rgb(34\, 34\, 34)\; font-family: &quot\;Open Sans&quot\;\, &quot\;Helvetica Neue&quot\;\, Helvetica\, Arial\, sans-serif\; font-size: 14px\; text-align: justify\;">\n	<li style="text-size-adjust: 100%\;"><strong>SHIFT&nbsp\;</strong>your business to navigate the circumstances</li>\n	<li style="text-size-adjust: 100%\;">Identify what is most important to&nbsp\;<strong>SUSTAIN&nbsp\;</strong>your mission</li>\n	<li style="text-size-adjust: 100%\;">Plan for&nbsp\;<strong>SUCCESS&nbsp\;</strong>in the future</li>\n</ul>\n<span style="color: rgb(34\, 34\, 34)\; font-family: &quot\;Open Sans&quot\;\, &quot\;Helvetica Neue&quot\;\, Helvetica\, Arial\, sans-serif\; font-size: 14px\; text-align: justify\;">We&rsquo\;re inviting local experts to address frequently asked questions and will allow time for additional questions.</span><strong style="color: rgb(34\, 34\, 34)\; font-family: &quot\;Open Sans&quot\;\, &quot\;Helvetica Neue&quot\;\, Helvetica\, Arial\, sans-serif\; font-size: 14px\; text-align: justify\;">&nbsp\;</strong><u style="color: rgb(34\, 34\, 34)\; font-family: &quot\;Open Sans&quot\;\, &quot\;Helvetica Neue&quot\;\, Helvetica\, Arial\, sans-serif\; font-size: 14px\; text-align: justify\;"><em>Each session is 30 minutes and interactive\, through Zoom</em></u><br />\n&nbsp\;\n<div style="color: rgb(34\, 34\, 34)\; font-family: &quot\;Open Sans&quot\;\, &quot\;Helvetica Neue&quot\;\, Helvetica\, Arial\, sans-serif\; font-size: 14px\;"><strong>This session will feature Jeff Bartos and Maia Comeau from the PA 30 Day Fund.</strong><br />\n<br />\nQuestions to be addressed:</div>\n\n<div style="margin: 12pt -0.5in 12pt 0in\;">&nbsp\;</div>\n\n<p dir="ltr" style="margin: 12pt -0.5in 12pt 0in\;line-height:1.38\;margin-right: -36pt\;margin-top:12pt\;margin-bottom:12pt\;"><span id="docs-internal-guid-aa4dd748-7fff-6861-dc83-395d5def9158"><span style="font-size: 11pt\; font-family: Arial\; color: rgb(0\, 0\, 0)\; background-color: transparent\; font-variant-numeric: normal\; font-variant-east-asian: normal\; vertical-align: baseline\; white-space: pre-wrap\;">&bull\; How much money have you raised to date?&nbsp\;Can you tell us about your donors?</span></span></p>\n\n<p dir="ltr" style="margin: 12pt -0.5in 12pt 0in\;line-height:1.38\;margin-right: -36pt\;margin-top:12pt\;margin-bottom:12pt\;"><span id="docs-internal-guid-aa4dd748-7fff-6861-dc83-395d5def9158"><span style="font-size: 11pt\; font-family: Arial\; color: rgb(0\, 0\, 0)\; background-color: transparent\; font-variant-numeric: normal\; font-variant-east-asian: normal\; vertical-align: baseline\; white-space: pre-wrap\;">&bull\; What is the impact you see the fund having on our communities\; and one the state as a whole?</span></span></p>\n\n<p dir="ltr" style="margin: 12pt -0.5in 12pt 0in\;line-height:1.38\;margin-right: -36pt\;margin-top:12pt\;margin-bottom:12pt\;"><span id="docs-internal-guid-aa4dd748-7fff-6861-dc83-395d5def9158"><span style="font-size: 11pt\; font-family: Arial\; color: rgb(0\, 0\, 0)\; background-color: transparent\; font-variant-numeric: normal\; font-variant-east-asian: normal\; vertical-align: baseline\; white-space: pre-wrap\;">&bull\; Who is the ideal applicant? Is there anyone who shouldn&rsquo\;t apply?</span></span></p>\n\n<div style="margin: 12pt -0.5in 12pt 0in\;">&nbsp\;</div>\n\n<div style="margin: 12pt -0.5in 12pt 0in\;">&nbsp\;</div>\n
LOCATION:An online business development series. Upon registration\, you will receive an email with the link to the Zoom meeting.
UID:e.3327.2343
SEQUENCE:3
DTSTAMP:20260420T145227Z
URL:https://members.venangochamber.org/events/details/2020-shift-sustain-succeed-june-23rd-pa-30-day-fund-pennsylvanians-helping-pennsylvanians-2343
END:VEVENT

END:VCALENDAR
