BEGIN:VCALENDAR
VERSION:2.0
PRODID:-//ChamberMaster//Event Calendar 2.0//EN
METHOD:PUBLISH
X-PUBLISHED-TTL:P3D
REFRESH-INTERVAL:P3D
CALSCALE:GREGORIAN
BEGIN:VEVENT
DTSTART:20200630T130000Z
DTEND:20200630T133000Z
X-MICROSOFT-CDO-ALLDAYEVENT:FALSE
SUMMARY:2020 Shift. Sustain. Succeed. June 30th (Connecting Resources to Needs - NWIRC)
DESCRIPTION:Shift. Sustain. Succeed. is a business development series brought to you by the Venango Area Chamber of Commerce. Each week we will answer your outstanding questions\, to help:\n\n\n	SHIFT your business to navigate the circumstances\n	Identify what is most important to SUSTAIN your mission\n	Plan for SUCCESS in the future\n\nWe're inviting local experts to address frequently asked questions and will allow time for additional questions. Each session is 30 minutes and interactive\, through Zoom\n\n \nThis session will feature Susan Hileman from the Northwest Industrial Resource Center (NWIRC).\n\n\n\nQuestions to be addressed:\n\n\n	What are the opportunities for financial assistance and for operational help?\n	What are timelines businesses need to be thinking about right now?\n	How does a business get started in receiving assistance? Is there a single point of entry?
X-ALT-DESC;FMTTYPE=text/html:<div style="color: rgb(34\, 34\, 34)\; font-family: &quot\;Open Sans&quot\;\, &quot\;Helvetica Neue&quot\;\, Helvetica\, Arial\, sans-serif\; font-size: 14px\; text-align: justify\;"><strong>Shift. Sustain. Succeed.</strong>&nbsp\;is a business development series brought to you by the Venango Area Chamber of Commerce. Each week we will answer your outstanding questions\, to help:</div>\n\n<ul style="color: rgb(34\, 34\, 34)\; font-family: &quot\;Open Sans&quot\;\, &quot\;Helvetica Neue&quot\;\, Helvetica\, Arial\, sans-serif\; font-size: 14px\; text-align: justify\;">\n	<li style="text-size-adjust: 100%\;"><strong>SHIFT&nbsp\;</strong>your business to navigate the circumstances</li>\n	<li style="text-size-adjust: 100%\;">Identify what is most important to&nbsp\;<strong>SUSTAIN&nbsp\;</strong>your mission</li>\n	<li style="text-size-adjust: 100%\;">Plan for&nbsp\;<strong>SUCCESS&nbsp\;</strong>in the future</li>\n</ul>\n<span style="color: rgb(34\, 34\, 34)\; font-family: &quot\;Open Sans&quot\;\, &quot\;Helvetica Neue&quot\;\, Helvetica\, Arial\, sans-serif\; font-size: 14px\; text-align: justify\;">We&rsquo\;re inviting local experts to address frequently asked questions and will allow time for additional questions.</span><strong style="color: rgb(34\, 34\, 34)\; font-family: &quot\;Open Sans&quot\;\, &quot\;Helvetica Neue&quot\;\, Helvetica\, Arial\, sans-serif\; font-size: 14px\; text-align: justify\;">&nbsp\;</strong><u style="color: rgb(34\, 34\, 34)\; font-family: &quot\;Open Sans&quot\;\, &quot\;Helvetica Neue&quot\;\, Helvetica\, Arial\, sans-serif\; font-size: 14px\; text-align: justify\;"><em>Each session is 30 minutes and interactive\, through Zoom</em></u><br />\n&nbsp\;\n<div style="color: rgb(34\, 34\, 34)\; font-family: &quot\;Open Sans&quot\;\, &quot\;Helvetica Neue&quot\;\, Helvetica\, Arial\, sans-serif\; font-size: 14px\;"><strong>This session will feature Susan Hileman from the Northwest Industrial Resource Center (NWIRC).</strong><br />\n<br />\nQuestions to be addressed:</div>\n\n<ul>\n	<li style="margin: 12pt -0.5in 12pt 0in\;">What are the opportunities for financial assistance and for operational help?</li>\n	<li style="margin: 12pt -0.5in 12pt 0in\;">What are timelines businesses need to be thinking about right now?</li>\n	<li style="margin: 12pt -0.5in 12pt 0in\;">How does a business get started in receiving assistance? Is there a single point of entry?</li>\n</ul>\n\n<div style="margin: 12pt -0.5in 12pt 0in\;">&nbsp\;</div>\n
LOCATION:An online business development series. Upon registration\, you will receive an email with the link to the Zoom meeting.
UID:e.3327.2344
SEQUENCE:3
DTSTAMP:20260420T144405Z
URL:https://members.venangochamber.org/events/details/2020-shift-sustain-succeed-june-30th-connecting-resources-to-needs-nwirc-2344
END:VEVENT

END:VCALENDAR
