BEGIN:VCALENDAR
VERSION:2.0
PRODID:-//ChamberMaster//Event Calendar 2.0//EN
METHOD:PUBLISH
X-PUBLISHED-TTL:P3D
REFRESH-INTERVAL:P3D
CALSCALE:GREGORIAN
BEGIN:VEVENT
DTSTART:20200609T130000Z
DTEND:20200609T133000Z
X-MICROSOFT-CDO-ALLDAYEVENT:FALSE
SUMMARY:2020 Shift. Sustain. Succeed. June 9th (Staying Health & Fit\, a Doctor's View)
DESCRIPTION:Shift. Sustain. Succeed. is a business development series brought to you by the Venango Area Chamber of Commerce. Each week we will answer your outstanding questions\, to help:\n\n\n	SHIFT your business to navigate the circumstances\n	Identify what is most important to SUSTAIN your mission\n	Plan for SUCCESS in the future\n\nWe're inviting local experts to address frequently asked questions and will allow time for additional questions. Each session is 30 minutes and interactive\, through Zoom\n\n \nThis session will feature Dr. Keith Wolfe from Butler Health Systems.  \n\n\n\nQuestions to be addressed:\n\n\n	How is COVID different from other infectious diseases we might normally be threatened by in a rural community?\n	 Are we safer because of our location?\n	Are there things we can do to protect ourselves and our families against COVID?
X-ALT-DESC;FMTTYPE=text/html:<div style="color: rgb(34\, 34\, 34)\; font-family: &quot\;Open Sans&quot\;\, &quot\;Helvetica Neue&quot\;\, Helvetica\, Arial\, sans-serif\; font-size: 14px\; text-align: justify\;"><strong>Shift. Sustain. Succeed.</strong>&nbsp\;is a business development series brought to you by the Venango Area Chamber of Commerce. Each week we will answer your outstanding questions\, to help:</div>\n\n<ul style="color: rgb(34\, 34\, 34)\; font-family: &quot\;Open Sans&quot\;\, &quot\;Helvetica Neue&quot\;\, Helvetica\, Arial\, sans-serif\; font-size: 14px\; text-align: justify\;">\n	<li style="text-size-adjust: 100%\;"><strong>SHIFT&nbsp\;</strong>your business to navigate the circumstances</li>\n	<li style="text-size-adjust: 100%\;">Identify what is most important to&nbsp\;<strong>SUSTAIN&nbsp\;</strong>your mission</li>\n	<li style="text-size-adjust: 100%\;">Plan for&nbsp\;<strong>SUCCESS&nbsp\;</strong>in the future</li>\n</ul>\n<span style="color: rgb(34\, 34\, 34)\; font-family: &quot\;Open Sans&quot\;\, &quot\;Helvetica Neue&quot\;\, Helvetica\, Arial\, sans-serif\; font-size: 14px\; text-align: justify\;">We&rsquo\;re inviting local experts to address frequently asked questions and will allow time for additional questions.</span><strong style="color: rgb(34\, 34\, 34)\; font-family: &quot\;Open Sans&quot\;\, &quot\;Helvetica Neue&quot\;\, Helvetica\, Arial\, sans-serif\; font-size: 14px\; text-align: justify\;">&nbsp\;</strong><u style="color: rgb(34\, 34\, 34)\; font-family: &quot\;Open Sans&quot\;\, &quot\;Helvetica Neue&quot\;\, Helvetica\, Arial\, sans-serif\; font-size: 14px\; text-align: justify\;"><em>Each session is 30 minutes and interactive\, through Zoom</em></u><br />\n&nbsp\;\n<div style="color: rgb(34\, 34\, 34)\; font-family: &quot\;Open Sans&quot\;\, &quot\;Helvetica Neue&quot\;\, Helvetica\, Arial\, sans-serif\; font-size: 14px\;"><strong>This session will feature Dr. Keith Wolfe from Butler Health Systems.&nbsp\;&nbsp\;</strong><br />\n<br />\nQuestions to be addressed:</div>\n\n<ul>\n	<li style="margin: 12pt -0.5in 12pt 0in\;"><span style="font-size:11.0pt\;font-family:&quot\;Arial&quot\;\,sans-serif\;color:black">How is COVID different from other infectious diseases we might normally be threatened by in a rural community?</span></li>\n	<li style="margin: 12pt -0.5in 12pt 0in\;"><span style="font-size:11.0pt\;font-family:&quot\;Arial&quot\;\,sans-serif\;color:black">&#8203\;</span><span style="font-size:11.0pt\;font-family:&quot\;Arial&quot\;\,sans-serif\;color:black">Are we safer because of our location?</span><o:p></o:p></li>\n	<li style="margin: 12pt -0.5in 12pt 0in\;"><o:p><span style="font-size:11.0pt\;font-family:&quot\;Arial&quot\;\,sans-serif\;color:black">Are there things we can do to protect ourselves and our families against COVID?&nbsp\;</span><o:p></o:p></o:p></li>\n</ul>\n
LOCATION:An online business development series. Upon registration\, you will receive an email with the link to the Zoom meeting.
UID:e.3327.2340
SEQUENCE:3
DTSTAMP:20260420T145409Z
URL:https://members.venangochamber.org/events/details/2020-shift-sustain-succeed-june-9th-staying-health-fit-a-doctor-s-view-2340
END:VEVENT

END:VCALENDAR
