BEGIN:VCALENDAR
VERSION:2.0
PRODID:-//ChamberMaster//Event Calendar 2.0//EN
METHOD:PUBLISH
X-PUBLISHED-TTL:P3D
REFRESH-INTERVAL:P3D
CALSCALE:GREGORIAN
BEGIN:VEVENT
DTSTART:20200505T130000Z
DTEND:20200505T133000Z
X-MICROSOFT-CDO-ALLDAYEVENT:FALSE
SUMMARY:2020 Shift. Sustain. Succeed. May 5th (HR/Labor Law)
DESCRIPTION:Shift. Sustain. Succeed. is a business development series brought to you by the Venango Area Chamber of Commerce. Each week we will answer your outstanding questions\, to help:\n\n\n	SHIFT your business to navigate the circumstances\n	Identify what is most important to SUSTAIN your mission\n	Plan for SUCCESS in the future\n\nWe're inviting local experts to address frequently asked questions and will allow time for additional questions. Each session is 30 minutes and interactive\, through Zoom\n\n \nThis session will feature local experts from the human resources and labor law fields.  \n\n\n\nQuestions to be addressed:\n\n\n	Sample questions coming soon!
X-ALT-DESC;FMTTYPE=text/html:<div style="color: rgb(34\, 34\, 34)\; font-family: &quot\;Open Sans&quot\;\, &quot\;Helvetica Neue&quot\;\, Helvetica\, Arial\, sans-serif\; font-size: 14px\; text-align: justify\;"><strong>Shift. Sustain. Succeed.</strong>&nbsp\;is a business development series brought to you by the Venango Area Chamber of Commerce. Each week we will answer your outstanding questions\, to help:</div>\n\n<ul style="color: rgb(34\, 34\, 34)\; font-family: &quot\;Open Sans&quot\;\, &quot\;Helvetica Neue&quot\;\, Helvetica\, Arial\, sans-serif\; font-size: 14px\; text-align: justify\;">\n	<li style="text-size-adjust: 100%\;"><strong>SHIFT&nbsp\;</strong>your business to navigate the circumstances</li>\n	<li style="text-size-adjust: 100%\;">Identify what is most important to&nbsp\;<strong>SUSTAIN&nbsp\;</strong>your mission</li>\n	<li style="text-size-adjust: 100%\;">Plan for&nbsp\;<strong>SUCCESS&nbsp\;</strong>in the future</li>\n</ul>\n<span style="color: rgb(34\, 34\, 34)\; font-family: &quot\;Open Sans&quot\;\, &quot\;Helvetica Neue&quot\;\, Helvetica\, Arial\, sans-serif\; font-size: 14px\; text-align: justify\;">We&rsquo\;re inviting local experts to address frequently asked questions and will allow time for additional questions.</span><strong style="color: rgb(34\, 34\, 34)\; font-family: &quot\;Open Sans&quot\;\, &quot\;Helvetica Neue&quot\;\, Helvetica\, Arial\, sans-serif\; font-size: 14px\; text-align: justify\;">&nbsp\;</strong><u style="color: rgb(34\, 34\, 34)\; font-family: &quot\;Open Sans&quot\;\, &quot\;Helvetica Neue&quot\;\, Helvetica\, Arial\, sans-serif\; font-size: 14px\; text-align: justify\;"><em>Each session is 30 minutes and interactive\, through Zoom</em></u><br />\n&nbsp\;\n<div style="color: rgb(34\, 34\, 34)\; font-family: &quot\;Open Sans&quot\;\, &quot\;Helvetica Neue&quot\;\, Helvetica\, Arial\, sans-serif\; font-size: 14px\;"><strong>This session will feature local experts from the&nbsp\;human resources and labor law fields.&nbsp\;&nbsp\;</strong><br />\n<br />\nQuestions to be addressed:</div>\n\n<ul style="color: rgb(34\, 34\, 34)\; font-family: &quot\;Open Sans&quot\;\, &quot\;Helvetica Neue&quot\;\, Helvetica\, Arial\, sans-serif\; font-size: 14px\;">\n	<li style="text-size-adjust: 100%\; text-align: left\;">Sample questions coming soon!</li>\n</ul>\n
LOCATION:An online business development series. Upon registration\, you will receive an email with the link to the Zoom meeting.
UID:e.3327.2325
SEQUENCE:3
DTSTAMP:20260420T131916Z
URL:https://members.venangochamber.org/events/details/2020-shift-sustain-succeed-may-5th-hr-labor-law-2325
END:VEVENT

END:VCALENDAR
