BEGIN:VCALENDAR
VERSION:2.0
PRODID:-//ChamberMaster//Event Calendar 2.0//EN
METHOD:PUBLISH
X-PUBLISHED-TTL:P3D
REFRESH-INTERVAL:P3D
CALSCALE:GREGORIAN
BEGIN:VEVENT
DTSTART:20200110T220000Z
DTEND:20200111T010000Z
X-MICROSOFT-CDO-ALLDAYEVENT:FALSE
SUMMARY:2020 Winter Kickoff Multi-Chamber Mega Mixer
DESCRIPTION:Join us and 33 other regional business associations and chambers for this annual mega mixer at Seven Springs Mountain Resort hosted by the Pittsburgh Business Exchange.\n\n\n\nThe event is from 5-8 p.m. but but feel free to come earlier to ski. Door prizes\, food\, and drinks! Enjoy special discounted guest rates for lodging and skiing.\n\n\n\nYou must register online at WinterKickoff2020.com.\n\n\n\nThe rate is $20 and it will go up to $25 after November 29. The fee if you do not pre-register is $65 at the door\, so be sure to sign up in advance.
X-ALT-DESC;FMTTYPE=text/html:Join us and 33 other regional business associations and chambers for this annual mega mixer at Seven Springs Mountain Resort hosted by the Pittsburgh Business Exchange.<br />\n<br />\nThe event is from 5-8 p.m. but but feel free to come earlier to ski. Door prizes\, food\, and drinks! Enjoy special discounted guest rates for lodging and skiing.<br />\n<br />\n<strong>You must register online at <a href="http://WinterKickoff2020.com">WinterKickoff2020.com</a>.</strong><br />\n<br />\nThe rate is $20 and it will go up to $25 after November 29. The fee if you do not pre-register is $65 at the door\, so be sure to sign up in advance.&nbsp\;
LOCATION:Seven Springs Mountain Resort - Winterberry Room 777 Water Wheel Drive Seven Springs\, PA
UID:e.3327.2306
SEQUENCE:3
DTSTAMP:20260420T202535Z
URL:https://members.venangochamber.org/events/details/2020-winter-kickoff-multi-chamber-mega-mixer-2306
END:VEVENT

END:VCALENDAR
