BEGIN:VCALENDAR
VERSION:2.0
PRODID:-//ChamberMaster//Event Calendar 2.0//EN
METHOD:PUBLISH
X-PUBLISHED-TTL:P3D
REFRESH-INTERVAL:P3D
CALSCALE:GREGORIAN
BEGIN:VEVENT
DTSTART:20221117T220000Z
DTEND:20221118T000000Z
X-MICROSOFT-CDO-ALLDAYEVENT:FALSE
SUMMARY:2022 Christ Episcopal Mixer
DESCRIPTION:Join us at Christ Episcopal Church in Oil City for a Business After Hours Mixer with the Venango Area Chamber! \n\n\n\nPrizes   Food & Drinks   Tour \n\n\n\nClick here to see event flyer!
X-ALT-DESC;FMTTYPE=text/html:<p class="_04xlpA direction-ltr align-center para-style-body" style="color: rgb(36\, 34\, 84)\; font-family: &quot\;YAD-4IprnsI 0&quot\;\, _fb_\, auto\; --font-size:37.3331px\; --line-height:0.96\; letter-spacing: -0.02em\; line-height: 35px\;"><span style="color:#000000\;"><span style="font-size:16px\;"><span style="font-style:italic\;language:en-US\;"><span style="font-family:open sans semibold\;">Join us at Christ Episcopal Church in Oil City for a Business After Hours Mixer with the Venango Area Chamber!&nbsp\;<br />\n<br />\nPrizes &bull\; Food &amp\; Drinks &bull\; Tour&nbsp\;<br />\n<br />\n<a href="https://venangochamber.org/wp-content/uploads/2022/09/Christ-Episcopal-Mixer-Flyer.pdf">Click here to see event flyer!</a></span></span></span></span></p>\n
LOCATION:Christ Episcopal Church 16 Central Avenue Oil City\, PA 16301
UID:e.3327.2431
SEQUENCE:3
DTSTAMP:20260425T235908Z
URL:https://members.venangochamber.org/events/details/2022-christ-episcopal-mixer-2431
END:VEVENT

END:VCALENDAR
