BEGIN:VCALENDAR
VERSION:2.0
PRODID:-//ChamberMaster//Event Calendar 2.0//EN
METHOD:PUBLISH
X-PUBLISHED-TTL:P3D
REFRESH-INTERVAL:P3D
CALSCALE:GREGORIAN
BEGIN:VEVENT
DTSTART:20221110T223000Z
DTEND:20221111T010000Z
X-MICROSOFT-CDO-ALLDAYEVENT:FALSE
SUMMARY:2022 FLEX Annual Meeting
DESCRIPTION:Join the FLEX young professionals for our 2022 Annual Meeting!\n\n\n\nThis event is held each year to get together and celebrate FLEX successes\, network and have fun\, and look forward to the following year. \n\n\n\nFrom 5:30 to 6 p.m.\, get a free professional headshot photo taken. Throughout the evening\, enjoy free food and beverages. \n\n\n\nThe program consists of a brief review of the last year\, including a look back at FLEX's successful socials\, fundraisers\, and civic engagement\, a preview of future plans\, and an election of new officers.\n\n\n\nFollowing the meeting\, all are welcome to stay for entertainment and trivia.\n\n\n\nThis event is free for young professionals\, but an official RSVP is required.\n\n\n\nTo register:\n\n	Click the "Register   " button on this page\n	Then\, on the right side where it says "Not a member?" click the link that says "Click here to continue your event registration."\n	Enter your contact information\n\nQuestions? Contact us at flex@venangochamber.org or or (814) 676-8521.\n\n\n\nThis event is hosted by FLEX and open to any young professionals (40 & under) in the Venango Area.
X-ALT-DESC;FMTTYPE=text/html:<br />\n<strong>Join the FLEX young professionals for our 2022 Annual Meeting!</strong><br />\n<br />\nThis event is held each year to get together and celebrate FLEX successes\, network and have fun\, and look forward to the following year.&nbsp\;<br />\n<br />\nFrom 5:30 to 6 p.m.\, get a free professional headshot photo taken.&nbsp\;Throughout the evening\, enjoy free food and beverages.&nbsp\;<br />\n<br />\nThe program consists of a brief review of the last year\, including a look back at FLEX&rsquo\;s successful socials\, fundraisers\, and civic engagement\, a preview of future plans\, and an election of new officers.<br />\n<br />\nFollowing the meeting\, all are welcome to stay for entertainment and trivia.<br />\n<br />\n<em><strong>This event is free for young professionals\, but an official RSVP is required.</strong></em><br />\n<br />\nTo register:\n<ul>\n	<li>Click the &quot\;Register &gt\;&gt\;&quot\; button on this page</li>\n	<li>Then\, on the right side where it says &quot\;Not a member?&quot\; click the link that says &quot\;Click here to continue your event registration.&quot\;</li>\n	<li>Enter your contact information</li>\n</ul>\nQuestions? Contact us at flex@venangochamber.org or or (814) 676-8521.<br />\n<br />\n<em>This event is hosted by FLEX and open to any young professionals (40 &amp\; under) in the Venango Area.</em>
LOCATION:Trails to Ales II 422 12th Street Franklin\, PA 16323
UID:e.3327.2433
SEQUENCE:3
DTSTAMP:20260425T235423Z
URL:https://members.venangochamber.org/events/details/2022-flex-annual-meeting-2433
END:VEVENT

END:VCALENDAR
