BEGIN:VCALENDAR
VERSION:2.0
PRODID:-//ChamberMaster//Event Calendar 2.0//EN
METHOD:PUBLISH
X-PUBLISHED-TTL:P3D
REFRESH-INTERVAL:P3D
CALSCALE:GREGORIAN
BEGIN:VEVENT
DTSTART:20231206T220000Z
DTEND:20231207T000000Z
X-MICROSOFT-CDO-ALLDAYEVENT:FALSE
SUMMARY:2023 Cross Creek Holiday Mixer
DESCRIPTION:Join us at Cross Creek Resort for our Annual Holiday Joint Mixer with our friends from the Franklin\, Meadville\, and Titusville Chambers! \n\n\n\nPlease get your RSVP in by November 30th.\n\n\n\nRSVP by calling (814) 676-8521\, emailing chamber@venangochamber.org\, or register online. \n\n\n\nClick here to view the event flyer: https://chambermaster.blob.core.windows.net/userfiles/UserFiles/chambers/3327/File/1CrossCreekMixer.pdf
X-ALT-DESC;FMTTYPE=text/html:<span style="font-size:16px\;"><span style="font-family:tahoma\;">Join us at <strong>Cross Creek Resort </strong>for our Annual Holiday Joint Mixer with our friends from the Franklin\, Meadville\, and Titusville Chambers!&nbsp\;<br />\n<br />\nPlease get your RSVP in by November 30th.<br />\n<br />\n<strong>RSVP by calling (814) 676-8521\, emailing chamber@venangochamber.org\, or register online.&nbsp\;<br />\n<br />\nClick here to view the event flyer:&nbsp\;</strong><a href="https://chambermaster.blob.core.windows.net/userfiles/UserFiles/chambers/3327/File/1CrossCreekMixer.pdf">https://chambermaster.blob.core.windows.net/userfiles/UserFiles/chambers/3327/File/1CrossCreekMixer.pdf</a>&nbsp\;</span></span>
LOCATION:Cross Creek Resort 3815 State Highway 8 Titusville\, PA 16354
UID:e.3327.2464
SEQUENCE:3
DTSTAMP:20260425T032220Z
URL:https://members.venangochamber.org/events/details/2023-cross-creek-holiday-mixer-2464
END:VEVENT

END:VCALENDAR
