BEGIN:VCALENDAR
VERSION:2.0
PRODID:-//ChamberMaster//Event Calendar 2.0//EN
METHOD:PUBLISH
X-PUBLISHED-TTL:P3D
REFRESH-INTERVAL:P3D
CALSCALE:GREGORIAN
BEGIN:VEVENT
DTSTART:20240221T220000Z
DTEND:20240222T013000Z
X-MICROSOFT-CDO-ALLDAYEVENT:FALSE
SUMMARY:2024 Annual Dinner
DESCRIPTION:The Venango Area Chamber of Commerce will host our Annual Awards Banquet on Wednesday\, February 21\, at Cross Creek Resort in Titusville. \n\n\n\nAt this year's event\, we will recognize the Citizen of the Year\, Volunteer of the Year\, Business of the Year\, and Partner in Business of the Year.\n\n\n\n2023 Citizen of the Year - Vince Witherup\n\n2023 Business of the Year - 4 Your Car Connection\n\n2023 Partner in Business of the Year - Cranberry Area School District \n\n\n\n\n\nYou can also submit a registration form by mail or in person. Download form here.\n\n\n\nMail to or drop off at: Venango Chamber\, 24 Seneca Street\, Oil City\, PA 16301\n\n\n\nPlease note the Venango Chambers cancellation and no show policy:\n\nProgram and event registration cancellations must be made by Friday\, February 9th if attendance is not possible. Please remember registrants can send a representative from the company in their place. If the registration is not canceled\, cancelled after the deadline or no one attended the event in place of the original registrant\, it is considered to be a "no-show" and payment is still required.
X-ALT-DESC;FMTTYPE=text/html:<p><span style="font-size:16px\;"><span style="color: rgb(68\, 68\, 68)\; font-family: &quot\;Open Sans&quot\;\; font-style: normal\; font-variant-ligatures: normal\; font-variant-caps: normal\; font-weight: 400\; letter-spacing: normal\; orphans: 2\; text-align: start\; text-indent: 0px\; text-transform: none\; white-space: normal\; widows: 2\; word-spacing: 0px\; -webkit-text-stroke-width: 0px\; background-color: rgb(255\, 255\, 255)\; text-decoration-style: initial\; text-decoration-color: initial\; float: none\; display: inline !important\;">The Venango Area Chamber of Commerce will host our Annual Awards Banquet on Wednesday\, February 21\, at Cross Creek Resort in Titusville.&nbsp\;<br />\n<br />\nAt this year&rsquo\;s event\, we will recognize the Citizen of the Year\, Volunteer of the Year\, Business of the Year\, and Partner in Business of the Year.<br />\n<br />\n2023 Citizen of the Year - Vince Witherup<br />\n2023 Business of the Year - 4 Your Car Connection</span></span><br />\n<span style="font-size:16px\;"><span style="color: rgb(68\, 68\, 68)\; font-family: &quot\;Open Sans&quot\;\; font-style: normal\; font-variant-ligatures: normal\; font-variant-caps: normal\; font-weight: 400\; letter-spacing: normal\; orphans: 2\; text-align: start\; text-indent: 0px\; text-transform: none\; white-space: normal\; widows: 2\; word-spacing: 0px\; -webkit-text-stroke-width: 0px\; background-color: rgb(255\, 255\, 255)\; text-decoration-style: initial\; text-decoration-color: initial\; float: none\; display: inline !important\;">2023 Partner in Business of the Year - Cranberry Area School District&nbsp\;</span></span><br />\n<br />\n<br />\n<span style="font-size:16px\;"><span style="color: rgb(68\, 68\, 68)\; font-family: &quot\;Open Sans&quot\;\; font-style: normal\; font-variant-ligatures: normal\; font-variant-caps: normal\; font-weight: 400\; letter-spacing: normal\; orphans: 2\; text-align: start\; text-indent: 0px\; text-transform: none\; white-space: normal\; widows: 2\; word-spacing: 0px\; -webkit-text-stroke-width: 0px\; background-color: rgb(255\, 255\, 255)\; text-decoration-style: initial\; text-decoration-color: initial\; float: none\; display: inline !important\;">You can also submit a registration form by mail or in person. <em><a href="https://venangochamber.org/wp-content/uploads/2023/12/2024-Annual-Dinner-Registration-Form-website.pdf">Download form here</a>.</em><br />\n<br />\nMail to or drop off at: </span></span><span style="font-size:16px\;"><span style="color: rgb(68\, 68\, 68)\; font-family: &quot\;Open Sans&quot\;\; font-style: normal\; font-variant-ligatures: normal\; font-variant-caps: normal\; font-weight: 400\; letter-spacing: normal\; orphans: 2\; text-align: start\; text-indent: 0px\; text-transform: none\; white-space: normal\; widows: 2\; word-spacing: 0px\; -webkit-text-stroke-width: 0px\; background-color: rgb(255\, 255\, 255)\; text-decoration-style: initial\; text-decoration-color: initial\; float: none\; display: inline !important\;">Venango Chamber\, 24 Seneca Street\, Oil City\, PA&nbsp\;16301</span><br />\n<br />\n<strong>Please note the&nbsp\;Venango Chambers cancellation and no show policy:</strong><br />\nProgram and event registration cancellations must be made by Friday\, February 9th if attendance is not possible. Please remember registrants can send a representative from the company in their place. If the registration is not canceled\, cancelled after the deadline or no one attended the event in place of the original registrant\, it is considered to be a &quot\;no-show&quot\; and payment is still required.&nbsp\; &nbsp\; &nbsp\;</span></p>\n
LOCATION:Cross Creek Resort 3815 Route 8 Titusville\, PA 16354
UID:e.3327.2460
SEQUENCE:3
DTSTAMP:20260425T000743Z
URL:https://members.venangochamber.org/events/details/2024-annual-dinner-2460
END:VEVENT

END:VCALENDAR
