BEGIN:VCALENDAR
VERSION:2.0
PRODID:-//ChamberMaster//Event Calendar 2.0//EN
METHOD:PUBLISH
X-PUBLISHED-TTL:P3D
REFRESH-INTERVAL:P3D
CALSCALE:GREGORIAN
BEGIN:VEVENT
DTSTART:20240125T220000Z
DTEND:20240126T000000Z
X-MICROSOFT-CDO-ALLDAYEVENT:FALSE
SUMMARY:2024 Business After Hours with R. Lee James
DESCRIPTION:Join us at the office of State Representative R. Lee James for his legislative update for small businesses!\n\n\n\nNetwork with other Venango Chamber members as well as members of the Franklin Area Chamber and enjoy refreshments at our next Business After Hours mixer.\n\n\n\nClick here to view the event flyer: https://chambermaster.blob.core.windows.net/userfiles/UserFiles/chambers/3327/File/VenangoWorksJanuary2024-smaller.pdf
X-ALT-DESC;FMTTYPE=text/html:<p class="_04xlpA direction-ltr align-center para-style-body" style="color: rgb(36\, 34\, 84)\; font-family: &quot\;YAD-4IprnsI 0&quot\;\, _fb_\, auto\; --font-size:37.3331px\; --line-height:0.96\; letter-spacing: -0.02em\; line-height: 35px\;"><span style="font-family: verdana\; font-size: 18px\; letter-spacing: -0.26px\; color: rgb(0\, 0\, 255)\;"><em><strong>Join us&nbsp\;at the office&nbsp\;of State Representative&nbsp\;R. Lee&nbsp\;James&nbsp\;for his legislative update for small businesses!</strong></em></span><br />\n<br />\n<span style="font-size:18px\;"><span style="font-family:verdana\;"><span style="color:#000000">Network with other Venango Chamber members as well as members of the Franklin Area Chamber and enjoy refreshments at our next Business After Hours mixer.<br />\n<br />\nClick here to view the event flyer:&nbsp\;<a href="https://chambermaster.blob.core.windows.net/userfiles/UserFiles/chambers/3327/File/VenangoWorksJanuary2024-smaller.pdf">https://chambermaster.blob.core.windows.net/userfiles/UserFiles/chambers/3327/File/VenangoWorksJanuary2024-smaller.pdf</a></span></span></span></p>\n
LOCATION:3220 State Route 257\, Suite 8 Seneca\, PA 16346
UID:e.3327.2466
SEQUENCE:3
DTSTAMP:20260425T015147Z
URL:https://members.venangochamber.org/events/details/2024-business-after-hours-with-r-lee-james-2466
END:VEVENT

END:VCALENDAR
