BEGIN:VCALENDAR
VERSION:2.0
PRODID:-//ChamberMaster//Event Calendar 2.0//EN
METHOD:PUBLISH
X-PUBLISHED-TTL:P3D
REFRESH-INTERVAL:P3D
CALSCALE:GREGORIAN
BEGIN:VEVENT
DTSTART:20240113T223000Z
DTEND:20240114T030000Z
X-MICROSOFT-CDO-ALLDAYEVENT:FALSE
SUMMARY:2024 FLEX Dinner & Show Social
DESCRIPTION:Join the FLEX young professionals for a fancy night in Franklin! We'll meet at Bella Cucina at 5:30 p.m. for networking\, cocktails\, and dinner\, then head to the Barrow-Civic Theatre for a showing of Liberty Cabaret: UNPLUGGED!\n\n\n\nDinner at Bella's will be dutch treat (check out their dinner menu). The first 20 to RSVP will get a free ticket to the show.\n\n\n\nIf you aren't one of the first 20 to register\, you are welcome to purchase your own ticket from the Barrow and still join us for show.\n\n\n\nSome FLEX members will be dressing up (cocktail attire)\, but you are welcome to dress how you are most comfortable.
X-ALT-DESC;FMTTYPE=text/html:Join the FLEX young professionals for a fancy night in Franklin! We&#39\;ll meet at Bella Cucina at 5:30 p.m. for networking\, cocktails\, and dinner\, then head to the Barrow-Civic Theatre for a showing of <a href="https://barrowtheatre.my.salesforce-sites.com/ticket#/events/a0S8Z00000JAVCLUA5">Liberty Cabaret:&nbsp\;</a>UNPLUGGED!<br />\n<br />\nDinner at Bella&#39\;s will be dutch treat (check out their <a href="https://www.bellapa.com/dinner-menu">dinner menu</a>). The first 20 to RSVP will get a free ticket to the show.<br />\n<br />\nIf you aren&#39\;t one of the first 20 to register\, you are welcome to purchase your own ticket from the Barrow and still join us for show.<br />\n<br />\nSome FLEX members will be dressing up (cocktail attire)\, but you are welcome to dress how you are most comfortable.
LOCATION:Dinner at Bella Cucina (1234 Liberty St) Show at Barrow-Civic Theatre (1223 Liberty St)
UID:e.3327.2465
SEQUENCE:3
DTSTAMP:20260425T014718Z
URL:https://members.venangochamber.org/events/details/2024-flex-dinner-show-social-2465
END:VEVENT

END:VCALENDAR
