BEGIN:VCALENDAR
VERSION:2.0
PRODID:-//ChamberMaster//Event Calendar 2.0//EN
METHOD:PUBLISH
X-PUBLISHED-TTL:P3D
REFRESH-INTERVAL:P3D
CALSCALE:GREGORIAN
BEGIN:VEVENT
DTSTART:20250920T150000Z
DTEND:20250920T200000Z
X-MICROSOFT-CDO-ALLDAYEVENT:FALSE
SUMMARY:2025 Cranberry Festival
DESCRIPTION:Join us at the Cranberry Mall on Saturday\, September 20th for the 24th Annual Cranberry Festival!
X-ALT-DESC;FMTTYPE=text/html:<em><span style="font-size:18px\;"><strong>Join us at the Cranberry Mall on Saturday\, September 20th for the 24th Annual Cranberry Festival!&nbsp\;</strong></span></em>
LOCATION:Cranberry Mall 6945 US Route 322 Cranberry\, PA 16319
UID:e.3327.2518
SEQUENCE:3
DTSTAMP:20260423T185534Z
URL:https://members.venangochamber.org/events/details/2025-cranberry-festival-2518
END:VEVENT

END:VCALENDAR
