BEGIN:VCALENDAR
VERSION:2.0
PRODID:-//ChamberMaster//Event Calendar 2.0//EN
METHOD:PUBLISH
X-PUBLISHED-TTL:P3D
REFRESH-INTERVAL:P3D
CALSCALE:GREGORIAN
BEGIN:VEVENT
DTSTART:20250626T130000Z
DTEND:20250626T210000Z
X-MICROSOFT-CDO-ALLDAYEVENT:FALSE
SUMMARY:2025 Venango Chamber Golf Scramble
DESCRIPTION:Join us for the Venango Chamber's annual Golf Scramble at Wanango Country Club! \n \n\nAccepting only 26 teams: men's\, women's\, or mixed. Registration with payment secures your spot. Sponsorship opportunities available! \n\n\n\nClick here to view the registration and sponsorship form as a PDF.\n9:00 a.m. - Trade Show \n\n10:00 a.m. - Registration \n\n11:00 a.m. - Shotgun Start \n\n\n\nGolfing includes beverages\, snacks\, lunch\, and steak dinner! \n\n\n\nTRADE SHOW:\n\nBusinesses will have the opportunity to set up a display at this year's pre-golf scramble Trade Show. Trade Show will be open to the public!\n\nRegister for a booth at the Trade Show at the Champion sponsor level and receive: trade show booth\, registration for a team of four golfers\, and Champion level sponsorship recognition.\n\n*Consult your tax professional about the deductibility of this event as a business expense!
X-ALT-DESC;FMTTYPE=text/html:<div style="text-align: center\;"><span style="font-size:18px\;"><span style="font-family:tahoma\;"><strong>Join us for the Venango Chamber&#39\;s annual Golf Scramble at Wanango Country Club!&nbsp\;</strong></span></span></div>\n&nbsp\;\n\n<p class="_04xlpA direction-ltr align-end para-style-body" line-height:="" style="color: rgb(255\, 255\, 255)\; font-family: " yadlji9qxta=""><span style="font-size:18px\;"><span style="font-family:tahoma\;"><span style="color:#000000\;"><span class="S1PPyQ">Accepting only 26 teams: men&#39\;s\, women&#39\;s\, or mixed. Registration with payment secures your spot.&nbsp\;</span></span></span></span><span style="font-size:18px\;"><span style="font-family:tahoma\;"><span style="color:#000000\;"><span class="S1PPyQ">Sponsorship opportunities available!</span><span class="S1PPyQ white-space-prewrap"> </span></span></span></span><br />\n<br />\n<a href="https://venangochamber.org/wp-content/uploads/2025/04/3-Golf-Outing-Flyer-2025-s.pdf"><span style="color:#FF0000\;"><span style="font-size:18px\;"><em><strong>Click&nbsp\;here to view the registration and sponsorship form as a PDF.</strong></em></span></span></a></p>\n<span style="font-size:18px\;"><span style="font-family:tahoma\;"><span style="font-weight: bold\;">9:00 a.m. - Trade Show&nbsp\;<br />\n10:00 a.m. - Registration&nbsp\;<br />\n11:00 a.m. - Shotgun Start&nbsp\;<br />\n<br />\nGolfing includes beverages\, snacks\, lunch\, and steak dinner!&nbsp\;<br />\n<br />\nTRADE SHOW:</span></span></span>\n\n<p class="_04xlpA direction-ltr align-end para-style-body" line-height:="" style="color: rgb(0\, 0\, 0)\; font-family: " yadlji9qxta=""><span style="font-size:18px\;"><span style="font-family:tahoma\;"><span class="S1PPyQ">Businesses will have the opportunity to set up a display at this year&rsquo\;s pre-golf scramble Trade Show. Trade Show will be open to the public!</span></span></span></p>\n\n<p class="_04xlpA direction-ltr align-end para-style-body" line-height:="" style="color: rgb(0\, 0\, 0)\; font-family: " yadlji9qxta=""><span style="font-size:18px\;"><span style="font-family:tahoma\;"><span class="S1PPyQ">Register for a booth at the Trade Show at the Champion sponsor level and receive: trade show booth\, registration for a team of four golfers\, and Champion level sponsorship recognition.</span></span></span></p>\n\n<p class="_04xlpA direction-ltr align-end para-style-body" line-height:="" style="color: rgb(0\, 0\, 0)\; font-family: " yadlji9qxta=""><span style="font-size:18px\;"><span style="font-family:tahoma\;"><span class="S1PPyQ" style="font-weight: 700\; font-style: italic\;">*Consult your tax professional about the deductibility of this event as a business expense!</span></span></span></p>\n
LOCATION:Wanango Country Club 314 Chestnut Street Reno\, PA
UID:e.3327.2503
SEQUENCE:3
DTSTAMP:20260424T003726Z
URL:https://members.venangochamber.org/events/details/2025-venango-chamber-golf-scramble-2503
END:VEVENT

END:VCALENDAR
