BEGIN:VCALENDAR
VERSION:2.0
PRODID:-//ChamberMaster//Event Calendar 2.0//EN
METHOD:PUBLISH
X-PUBLISHED-TTL:P3D
REFRESH-INTERVAL:P3D
CALSCALE:GREGORIAN
BEGIN:VEVENT
DTSTART:20250626T130000Z
DTEND:20250626T150000Z
X-MICROSOFT-CDO-ALLDAYEVENT:FALSE
SUMMARY:2025 Venango Chamber Trade Show
DESCRIPTION:Join us at the Venango Chamber Trade Show! \n\n\n\nJune 26th from 9 AM - 11 AM at Wanango Country Club \n\n\n\nMeet vendors\, make new connections\, and expand your network at our Trade Show. \n\n\n\n$50 fee for Chamber members\, $100 for non-members \n\n\n\n* 8 foot table with black linens and 2 chairs provided\n\n\n\n--\n\n\n\nHeld before our Annual Golf Scramble (Click here for details)
X-ALT-DESC;FMTTYPE=text/html:<span style="color:#000000\;"><span style="font-family:tahoma\;"><span style="font-size:18px\;"><span class="OYPEnA font-feature-liga-off font-feature-clig-off font-feature-calt-off text-decoration-none text-strikethrough-none" style="font-weight: 700\; font-kerning: none\;">Join us at the Venango Chamber Trade Show!&nbsp\;<br />\n<br />\nJune 26th from 9 AM - 11 AM at Wanango Country Club&nbsp\;</span></span></span><br />\n<br />\n<strong><span class="OYPEnA font-feature-liga-off font-feature-clig-off font-feature-calt-off text-decoration-none text-strikethrough-none" style="font-kerning: none\;"><span style="font-family:tahoma\;"><span style="font-size:18px\;">Meet vendors\, make new connections\, and expand your network at our Trade Show.&nbsp\;<br />\n<br />\n$50 fee for Chamber members\, $100 for non-members&nbsp\;<br />\n<br />\n* 8 foot table with black linens and 2 chairs provided</span></span><br />\n<br />\n--</span></strong><br />\n<br />\n<span class="OYPEnA font-feature-liga-off font-feature-clig-off font-feature-calt-off text-decoration-none text-strikethrough-none" style="font-weight: 700\; font-kerning: none\;">Held before our Annual Golf Scramble (<a href="https://members.venangochamber.org/events/details/venango-chamber-golf-scramble-2025-2503">Click here for details</a>)&nbsp\;</span></span>
LOCATION:Wanango Country Club\, Reno
UID:e.3327.2519
SEQUENCE:3
DTSTAMP:20260424T004042Z
URL:https://members.venangochamber.org/events/details/2025-venango-chamber-trade-show-2519
END:VEVENT

END:VCALENDAR
