BEGIN:VCALENDAR
VERSION:2.0
PRODID:-//ChamberMaster//Event Calendar 2.0//EN
METHOD:PUBLISH
X-PUBLISHED-TTL:P3D
REFRESH-INTERVAL:P3D
CALSCALE:GREGORIAN
BEGIN:VEVENT
DTSTART:20260214T010000Z
DTEND:20260214T040000Z
X-MICROSOFT-CDO-ALLDAYEVENT:FALSE
SUMMARY:2026 FLEX Fundraiser - NOW That's What I Call Millennial
DESCRIPTION:Get ready to vibe with throwbacks\, memes\, and all things nostalgic at NOW That's What I Call Millennial - FLEX Fundraiser!\n\n\n\n\nNOW That's What I Call Millennial   \n\nPress play on your favorite era and join us for a high-energy\, in-person night dedicated to peak millennial nostalgia. From throwback anthems to cozy vibes\, this is your chance to relive the songs\, trends\, and memories that defined a generation. Come hang out\, sing along\, and make a few new core memories with friends old and new.\n\nWhat's in store:\n\n\n	Live DJ spinning all the millennial hits\n	Cash song requests encouraged for maximum throwback energy\n	Best Dressed contest\n	Raffles and giveaways\n	S'more buckets\n	Millennial gaming and surprise nostalgia moments\n\n\nMusic you'll hear:\n\nBackstreet Boys\, Coldplay\, MGMT\, Green Day\, Britney Spears\, Black Eyed Peas\, Taylor Swift\, The Killers\, Kesha\, The Weeknd\, Good Charlotte\, and more.\n\n  Location: Trails to Ales II\n\n422 12th Street\, Franklin\, PA 16323\n\n  Date & Time: Friday\, February 13\, 2026\n\n8:00 11:00 PM\n\n  Tickets:\n\n\n	$15 online early bird\n	$20 cash at the door\n\n	Includes one drink ticket\n\n\nDust off your skinny jeans\, graphic tees\, or pop-punk best and get ready for a night that feels like your favorite playlist come to life.
X-ALT-DESC;FMTTYPE=text/html:<div class="undefined" style="margin: 0px\; padding: 0px\; box-sizing: border-box\; color: rgb(57\, 54\, 79)\; font-family: &quot\;Neue Plak&quot\;\, -apple-system\, BlinkMacSystemFont\, Roboto\, &quot\;Helvetica Neue&quot\;\, Helvetica\, Tahoma\, Arial\, sans-serif\; font-size: 14px\;">\n<div class="summary" style="margin: 0px 0px 23.994px\; padding: 0px\; box-sizing: border-box\; color: rgb(88\, 81\, 99)\; font-variant-numeric: normal\; font-variant-east-asian: normal\; font-variant-alternates: normal\; font-size-adjust: none\; font-language-override: normal\; font-kerning: auto\; font-optical-sizing: auto\; font-feature-settings: normal\; font-variation-settings: normal\; font-variant-position: normal\; font-variant-emoji: normal\; font-stretch: normal\; font-size: 18px\; line-height: 1.333\; font-family: &quot\;Neue Plak&quot\;\; letter-spacing: 0.1px\; word-break: break-word\;"><span style="font-size:16px\;">Get ready to vibe with throwbacks\, memes\, and all things nostalgic at NOW That&rsquo\;s What I Call Millennial - FLEX Fundraiser!</span></div>\n</div>\n\n<div class="structured-content-rich-text" style="margin: 0px\; padding: 0px\; box-sizing: border-box\; text-rendering: optimizelegibility\; color: rgb(57\, 54\, 79)\; font-family: &quot\;Neue Plak&quot\;\, -apple-system\, BlinkMacSystemFont\, Roboto\, &quot\;Helvetica Neue&quot\;\, Helvetica\, Tahoma\, Arial\, sans-serif\; font-size: 14px\;">\n<div class="eds-text--left" style="margin: 0px\; padding: 0px\; box-sizing: border-box\;">\n<p style="margin: 12px 0px\; padding: 0px\; box-sizing: border-box\; color: rgb(88\, 81\, 99)\; font-variant-numeric: normal\; font-variant-east-asian: normal\; font-variant-alternates: normal\; font-size-adjust: none\; font-language-override: normal\; font-kerning: auto\; font-optical-sizing: auto\; font-feature-settings: normal\; font-variation-settings: normal\; font-variant-position: normal\; font-variant-emoji: normal\; font-stretch: normal\; font-size: 18px\; line-height: 1.333\; font-family: &quot\;Neue Plak&quot\;\; letter-spacing: 0.1px\;"><span style="font-size:16px\;"><span style="font-weight: 600\; box-sizing: border-box\;">NOW That&rsquo\;s What I Call Millennial &#127911\;&#10024\;</span></span></p>\n\n<p style="margin: 12px 0px\; padding: 0px\; box-sizing: border-box\; color: rgb(88\, 81\, 99)\; font-variant-numeric: normal\; font-variant-east-asian: normal\; font-variant-alternates: normal\; font-size-adjust: none\; font-language-override: normal\; font-kerning: auto\; font-optical-sizing: auto\; font-feature-settings: normal\; font-variation-settings: normal\; font-variant-position: normal\; font-variant-emoji: normal\; font-stretch: normal\; font-size: 18px\; line-height: 1.333\; font-family: &quot\;Neue Plak&quot\;\; letter-spacing: 0.1px\;"><span style="font-size:16px\;">Press play on your favorite era and join us for a high-energy\, in-person night dedicated to peak millennial nostalgia. From throwback anthems to cozy vibes\, this is your chance to relive the songs\, trends\, and memories that defined a generation. Come hang out\, sing along\, and make a few new core memories with friends old and new.</span></p>\n\n<p style="margin: 12px 0px\; padding: 0px\; box-sizing: border-box\; color: rgb(88\, 81\, 99)\; font-variant-numeric: normal\; font-variant-east-asian: normal\; font-variant-alternates: normal\; font-size-adjust: none\; font-language-override: normal\; font-kerning: auto\; font-optical-sizing: auto\; font-feature-settings: normal\; font-variation-settings: normal\; font-variant-position: normal\; font-variant-emoji: normal\; font-stretch: normal\; font-size: 18px\; line-height: 1.333\; font-family: &quot\;Neue Plak&quot\;\; letter-spacing: 0.1px\;"><span style="font-size:16px\;"><span style="font-weight: 600\; box-sizing: border-box\;">What&rsquo\;s in store:</span></span></p>\n\n<ul style="margin: 12px 0px\; padding-right: 0px\; padding-left: 36px\; list-style-position: initial\; list-style-image: initial\; box-sizing: border-box\; color: rgb(88\, 81\, 99)\; font-variant-numeric: normal\; font-variant-east-asian: normal\; font-variant-alternates: normal\; font-size-adjust: none\; font-language-override: normal\; font-kerning: auto\; font-optical-sizing: auto\; font-feature-settings: normal\; font-variation-settings: normal\; font-variant-position: normal\; font-variant-emoji: normal\; font-stretch: normal\; font-size: 18px\; line-height: 1.333\; font-family: &quot\;Neue Plak&quot\;\; letter-spacing: 0.1px\;">\n	<li style="margin: 12px 0px\; padding: 0px\; box-sizing: border-box\; font-variant-numeric: normal\; font-variant-east-asian: normal\; font-variant-alternates: normal\; font-size-adjust: none\; font-language-override: normal\; font-kerning: auto\; font-optical-sizing: auto\; font-feature-settings: normal\; font-variation-settings: normal\; font-variant-position: normal\; font-variant-emoji: normal\; font-stretch: normal\; line-height: 1.333\; letter-spacing: 0.1px\;"><span style="font-size:16px\;">Live DJ spinning all the millennial hits</span></li>\n	<li style="margin: 12px 0px\; padding: 0px\; box-sizing: border-box\; font-variant-numeric: normal\; font-variant-east-asian: normal\; font-variant-alternates: normal\; font-size-adjust: none\; font-language-override: normal\; font-kerning: auto\; font-optical-sizing: auto\; font-feature-settings: normal\; font-variation-settings: normal\; font-variant-position: normal\; font-variant-emoji: normal\; font-stretch: normal\; line-height: 1.333\; letter-spacing: 0.1px\;"><span style="font-size:16px\;">Cash song requests encouraged for maximum throwback energy</span></li>\n	<li style="margin: 12px 0px\; padding: 0px\; box-sizing: border-box\; font-variant-numeric: normal\; font-variant-east-asian: normal\; font-variant-alternates: normal\; font-size-adjust: none\; font-language-override: normal\; font-kerning: auto\; font-optical-sizing: auto\; font-feature-settings: normal\; font-variation-settings: normal\; font-variant-position: normal\; font-variant-emoji: normal\; font-stretch: normal\; line-height: 1.333\; letter-spacing: 0.1px\;"><span style="font-size:16px\;">Best Dressed contest</span></li>\n	<li style="margin: 12px 0px\; padding: 0px\; box-sizing: border-box\; font-variant-numeric: normal\; font-variant-east-asian: normal\; font-variant-alternates: normal\; font-size-adjust: none\; font-language-override: normal\; font-kerning: auto\; font-optical-sizing: auto\; font-feature-settings: normal\; font-variation-settings: normal\; font-variant-position: normal\; font-variant-emoji: normal\; font-stretch: normal\; line-height: 1.333\; letter-spacing: 0.1px\;"><span style="font-size:16px\;">Raffles and giveaways</span></li>\n	<li style="margin: 12px 0px\; padding: 0px\; box-sizing: border-box\; font-variant-numeric: normal\; font-variant-east-asian: normal\; font-variant-alternates: normal\; font-size-adjust: none\; font-language-override: normal\; font-kerning: auto\; font-optical-sizing: auto\; font-feature-settings: normal\; font-variation-settings: normal\; font-variant-position: normal\; font-variant-emoji: normal\; font-stretch: normal\; line-height: 1.333\; letter-spacing: 0.1px\;"><span style="font-size:16px\;">S&rsquo\;more buckets</span></li>\n	<li style="margin: 12px 0px\; padding: 0px\; box-sizing: border-box\; font-variant-numeric: normal\; font-variant-east-asian: normal\; font-variant-alternates: normal\; font-size-adjust: none\; font-language-override: normal\; font-kerning: auto\; font-optical-sizing: auto\; font-feature-settings: normal\; font-variation-settings: normal\; font-variant-position: normal\; font-variant-emoji: normal\; font-stretch: normal\; line-height: 1.333\; letter-spacing: 0.1px\;"><span style="font-size:16px\;">Millennial gaming and surprise nostalgia moments</span></li>\n</ul>\n\n<p style="margin: 12px 0px\; padding: 0px\; box-sizing: border-box\; color: rgb(88\, 81\, 99)\; font-variant-numeric: normal\; font-variant-east-asian: normal\; font-variant-alternates: normal\; font-size-adjust: none\; font-language-override: normal\; font-kerning: auto\; font-optical-sizing: auto\; font-feature-settings: normal\; font-variation-settings: normal\; font-variant-position: normal\; font-variant-emoji: normal\; font-stretch: normal\; font-size: 18px\; line-height: 1.333\; font-family: &quot\;Neue Plak&quot\;\; letter-spacing: 0.1px\;"><span style="font-size:16px\;"><span style="font-weight: 600\; box-sizing: border-box\;">Music you&rsquo\;ll hear:</span><br style="box-sizing: border-box\;" />\nBackstreet Boys\, Coldplay\, MGMT\, Green Day\, Britney Spears\, Black Eyed Peas\, Taylor Swift\, The Killers\, Kesha\, The Weeknd\, Good Charlotte\, and more.</span></p>\n\n<p style="margin: 12px 0px\; padding: 0px\; box-sizing: border-box\; color: rgb(88\, 81\, 99)\; font-variant-numeric: normal\; font-variant-east-asian: normal\; font-variant-alternates: normal\; font-size-adjust: none\; font-language-override: normal\; font-kerning: auto\; font-optical-sizing: auto\; font-feature-settings: normal\; font-variation-settings: normal\; font-variant-position: normal\; font-variant-emoji: normal\; font-stretch: normal\; font-size: 18px\; line-height: 1.333\; font-family: &quot\;Neue Plak&quot\;\; letter-spacing: 0.1px\;"><span style="font-size:16px\;"><span style="font-weight: 600\; box-sizing: border-box\;">&#128205\; Location:</span>&nbsp\;Trails to Ales II<br style="box-sizing: border-box\;" />\n422 12th Street\, Franklin\, PA 16323</span></p>\n\n<p style="margin: 12px 0px\; padding: 0px\; box-sizing: border-box\; color: rgb(88\, 81\, 99)\; font-variant-numeric: normal\; font-variant-east-asian: normal\; font-variant-alternates: normal\; font-size-adjust: none\; font-language-override: normal\; font-kerning: auto\; font-optical-sizing: auto\; font-feature-settings: normal\; font-variation-settings: normal\; font-variant-position: normal\; font-variant-emoji: normal\; font-stretch: normal\; font-size: 18px\; line-height: 1.333\; font-family: &quot\;Neue Plak&quot\;\; letter-spacing: 0.1px\;"><span style="font-size:16px\;"><span style="font-weight: 600\; box-sizing: border-box\;">&#128467\; Date &amp\; Time:</span>&nbsp\;Friday\, February 13\, 2026<br style="box-sizing: border-box\;" />\n8:00&ndash\;11:00 PM</span></p>\n\n<p style="margin: 12px 0px\; padding: 0px\; box-sizing: border-box\; color: rgb(88\, 81\, 99)\; font-variant-numeric: normal\; font-variant-east-asian: normal\; font-variant-alternates: normal\; font-size-adjust: none\; font-language-override: normal\; font-kerning: auto\; font-optical-sizing: auto\; font-feature-settings: normal\; font-variation-settings: normal\; font-variant-position: normal\; font-variant-emoji: normal\; font-stretch: normal\; font-size: 18px\; line-height: 1.333\; font-family: &quot\;Neue Plak&quot\;\; letter-spacing: 0.1px\;"><span style="font-size:16px\;"><span style="font-weight: 600\; box-sizing: border-box\;">&#127903\; Tickets:</span></span></p>\n\n<ul style="margin: 12px 0px\; padding-right: 0px\; padding-left: 36px\; list-style-position: initial\; list-style-image: initial\; box-sizing: border-box\; color: rgb(88\, 81\, 99)\; font-variant-numeric: normal\; font-variant-east-asian: normal\; font-variant-alternates: normal\; font-size-adjust: none\; font-language-override: normal\; font-kerning: auto\; font-optical-sizing: auto\; font-feature-settings: normal\; font-variation-settings: normal\; font-variant-position: normal\; font-variant-emoji: normal\; font-stretch: normal\; font-size: 18px\; line-height: 1.333\; font-family: &quot\;Neue Plak&quot\;\; letter-spacing: 0.1px\;">\n	<li style="margin: 12px 0px\; padding: 0px\; box-sizing: border-box\; font-variant-numeric: normal\; font-variant-east-asian: normal\; font-variant-alternates: normal\; font-size-adjust: none\; font-language-override: normal\; font-kerning: auto\; font-optical-sizing: auto\; font-feature-settings: normal\; font-variation-settings: normal\; font-variant-position: normal\; font-variant-emoji: normal\; font-stretch: normal\; line-height: 1.333\; letter-spacing: 0.1px\;"><span style="font-size:16px\;">$15 <a href="https://www.eventbrite.com/e/now-thats-what-i-call-millennial-tickets-1979886916063">online early bird</a></span></li>\n	<li style="margin: 12px 0px\; padding: 0px\; box-sizing: border-box\; font-variant-numeric: normal\; font-variant-east-asian: normal\; font-variant-alternates: normal\; font-size-adjust: none\; font-language-override: normal\; font-kerning: auto\; font-optical-sizing: auto\; font-feature-settings: normal\; font-variation-settings: normal\; font-variant-position: normal\; font-variant-emoji: normal\; font-stretch: normal\; line-height: 1.333\; letter-spacing: 0.1px\;"><span style="font-size:16px\;">$20 cash at the door<br style="box-sizing: border-box\;" />\n	Includes one drink ticket</span></li>\n</ul>\n\n<p style="margin: 12px 0px\; padding: 0px\; box-sizing: border-box\; color: rgb(88\, 81\, 99)\; font-variant-numeric: normal\; font-variant-east-asian: normal\; font-variant-alternates: normal\; font-size-adjust: none\; font-language-override: normal\; font-kerning: auto\; font-optical-sizing: auto\; font-feature-settings: normal\; font-variation-settings: normal\; font-variant-position: normal\; font-variant-emoji: normal\; font-stretch: normal\; font-size: 18px\; line-height: 1.333\; font-family: &quot\;Neue Plak&quot\;\; letter-spacing: 0.1px\;"><span style="font-size:16px\;">Dust off your skinny jeans\, graphic tees\, or pop-punk best and get ready for a night that feels like your favorite playlist come to life. &#127926\;&#128293\;</span></p>\n</div>\n</div>\n
LOCATION:Trails to Ales II 422 12th Street\, Franklin PA 16323
UID:e.3327.2534
SEQUENCE:3
DTSTAMP:20260423T110233Z
URL:https://members.venangochamber.org/events/details/2026-flex-fundraiser-now-that-s-what-i-call-millennial-2534
END:VEVENT

END:VCALENDAR
