BEGIN:VCALENDAR
VERSION:2.0
PRODID:-//ChamberMaster//Event Calendar 2.0//EN
METHOD:PUBLISH
X-PUBLISHED-TTL:P3D
REFRESH-INTERVAL:P3D
CALSCALE:GREGORIAN
BEGIN:VEVENT
DTSTART:20260919T150000Z
DTEND:20260919T200000Z
X-MICROSOFT-CDO-ALLDAYEVENT:FALSE
SUMMARY:Cranberry Festival 2026
DESCRIPTION:Join us at the Cranberry Mall on Saturday\, September 19th for the 25th Annual Cranberry Festival!
X-ALT-DESC;FMTTYPE=text/html:<em><span style="font-size:18px\;"><strong>Join us at the Cranberry Mall on Saturday\, September 19th for the 25th Annual Cranberry Festival!&nbsp\;</strong></span></em>
LOCATION:Cranberry Mall 6945 US Route 322 Cranberry\, PA 16319
UID:e.3327.2532
SEQUENCE:3
DTSTAMP:20260424T092136Z
URL:https://members.venangochamber.org/events/details/cranberry-festival-2026-2532
END:VEVENT

END:VCALENDAR
